BEGIN:VCALENDAR
VERSION:2.0
PRODID:-//time.you/holidays//NONSGML v1.0//EN
BEGIN:VEVENT
UID:3f506606-f10b-4b36-ac61-224e5011ea9c
DTSTAMP:20260421T220554Z
DTSTART;VALUE=DATE:20260101
SUMMARY:New Year's Day (Fiji)
END:VEVENT
END:VCALENDAR