BEGIN:VCALENDAR
VERSION:2.0
PRODID:-//time.you/holidays//NONSGML v1.0//EN
BEGIN:VEVENT
UID:d94e37ed-7c85-4beb-bb1a-624c0a4d7edc
DTSTAMP:20260421T143948Z
DTSTART;VALUE=DATE:20270816
SUMMARY:Prophet Mohammed's Birthday (observed, estimated) (Fiji)
END:VEVENT
END:VCALENDAR