BEGIN:VCALENDAR
VERSION:2.0
PRODID:-//time.you/holidays//NONSGML v1.0//EN
BEGIN:VEVENT
UID:117ddd24-aa11-4e3d-8c31-d7fbbea8cf0d
DTSTAMP:20260419T223056Z
DTSTART;VALUE=DATE:20261031
SUMMARY:All Saints' Day (Finland)
END:VEVENT
END:VCALENDAR