BEGIN:VCALENDAR
VERSION:2.0
PRODID:-//time.you/holidays//NONSGML v1.0//EN
BEGIN:VEVENT
UID:002efbf8-f283-45de-8a20-26cc3fe3ed53
DTSTAMP:20260421T220714Z
DTSTART;VALUE=DATE:20260514
SUMMARY:Ascension Day (Finland)
END:VEVENT
END:VCALENDAR