BEGIN:VCALENDAR
VERSION:2.0
PRODID:-//time.you/holidays//NONSGML v1.0//EN
BEGIN:VEVENT
UID:eb55c91d-450e-4c7e-97c6-3ddc2ca358dc
DTSTAMP:20260420T125643Z
DTSTART;VALUE=DATE:20260405
SUMMARY:Easter Sunday (Finland)
END:VEVENT
END:VCALENDAR