BEGIN:VCALENDAR
VERSION:2.0
PRODID:-//time.you/holidays//NONSGML v1.0//EN
BEGIN:VEVENT
UID:3e495582-76e7-44cc-a743-6bb5e7fc1d8a
DTSTAMP:20260420T232515Z
DTSTART;VALUE=DATE:20260403
SUMMARY:Good Friday (Finland)
END:VEVENT
END:VCALENDAR