BEGIN:VCALENDAR
VERSION:2.0
PRODID:-//time.you/holidays//NONSGML v1.0//EN
BEGIN:VEVENT
UID:98b15b4f-77c5-4af2-af5b-ec12516eb256
DTSTAMP:20260421T033419Z
DTSTART;VALUE=DATE:20260620
SUMMARY:Midsummer Day (Finland)
END:VEVENT
END:VCALENDAR