BEGIN:VCALENDAR
VERSION:2.0
PRODID:-//time.you/holidays//NONSGML v1.0//EN
BEGIN:VEVENT
UID:8d91a7fc-5ada-4ff7-b37f-d1c4bcaf9e8b
DTSTAMP:20260420T084720Z
DTSTART;VALUE=DATE:20261226
SUMMARY:Second Day of Christmas (Finland)
END:VEVENT
END:VCALENDAR