BEGIN:VCALENDAR
VERSION:2.0
PRODID:-//time.you/holidays//NONSGML v1.0//EN
BEGIN:VEVENT
UID:e7f23035-7309-4562-943c-4eda2f6812ea
DTSTAMP:20260422T034716Z
DTSTART;VALUE=DATE:20260524
SUMMARY:Whit Sunday (Finland)
END:VEVENT
END:VCALENDAR