BEGIN:VCALENDAR
VERSION:2.0
PRODID:-//time.you/holidays//NONSGML v1.0//EN
BEGIN:VEVENT
UID:766f76c4-9c52-49e6-8bf6-a97b788178ac
DTSTAMP:20260421T144127Z
DTSTART;VALUE=DATE:20260527
SUMMARY:Abolition of Slavery (France)
END:VEVENT
END:VCALENDAR