BEGIN:VCALENDAR
VERSION:2.0
PRODID:-//time.you/holidays//NONSGML v1.0//EN
BEGIN:VEVENT
UID:54e09a1b-b6c9-499f-ab8f-9199607b3cff
DTSTAMP:20260420T093319Z
DTSTART;VALUE=DATE:20261111
SUMMARY:Armistice Day (France)
END:VEVENT
END:VCALENDAR