BEGIN:VCALENDAR
VERSION:2.0
PRODID:-//time.you/holidays//NONSGML v1.0//EN
BEGIN:VEVENT
UID:505e514f-743f-475c-bc87-a9122397dcae
DTSTAMP:20260420T095230Z
DTSTART;VALUE=DATE:20260514
SUMMARY:Ascension Day (France)
END:VEVENT
END:VCALENDAR