BEGIN:VCALENDAR
VERSION:2.0
PRODID:-//time.you/holidays//NONSGML v1.0//EN
BEGIN:VEVENT
UID:522ad555-c484-4a9b-9020-5b078fa5881c
DTSTAMP:20260420T145740Z
DTSTART;VALUE=DATE:20260406
SUMMARY:Easter Monday (France)
END:VEVENT
END:VCALENDAR