BEGIN:VCALENDAR
VERSION:2.0
PRODID:-//time.you/holidays//NONSGML v1.0//EN
BEGIN:VEVENT
UID:16eff676-989c-4dc8-bce1-b8692c26e803
DTSTAMP:20260423T134144Z
DTSTART;VALUE=DATE:20240629
SUMMARY:Internal Autonomy Day (France)
END:VEVENT
END:VCALENDAR