BEGIN:VCALENDAR
VERSION:2.0
PRODID:-//time.you/holidays//NONSGML v1.0//EN
BEGIN:VEVENT
UID:9d98c991-e89e-4d1e-a78c-7572d7a6b178
DTSTAMP:20260419T234837Z
DTSTART;VALUE=DATE:20260101
SUMMARY:New Year's Day (France)
END:VEVENT
END:VCALENDAR