BEGIN:VCALENDAR
VERSION:2.0
PRODID:-//time.you/holidays//NONSGML v1.0//EN
BEGIN:VEVENT
UID:67f3972a-dac0-4e20-8428-b921ca31c545
DTSTAMP:20260421T155847Z
DTSTART;VALUE=DATE:20260629
SUMMARY:Saints Peter and Paul Day (France)
END:VEVENT
END:VCALENDAR