BEGIN:VCALENDAR
VERSION:2.0
PRODID:-//time.you/holidays//NONSGML v1.0//EN
BEGIN:VEVENT
UID:7a401e00-e5da-4d81-a663-65f4c845e928
DTSTAMP:20260423T170818Z
DTSTART;VALUE=DATE:20260729
SUMMARY:Territory Day (France)
END:VEVENT
END:VCALENDAR