BEGIN:VCALENDAR
VERSION:2.0
PRODID:-//time.you/holidays//NONSGML v1.0//EN
BEGIN:VEVENT
UID:0e5944bd-5cf5-4fee-9a0c-ef50ecaefb76
DTSTAMP:20260421T015123Z
DTSTART;VALUE=DATE:20260508
SUMMARY:Victory Day (France)
END:VEVENT
END:VCALENDAR