BEGIN:VCALENDAR
VERSION:2.0
PRODID:-//time.you/holidays//NONSGML v1.0//EN
BEGIN:VEVENT
UID:e7759141-6ad8-47f7-b7fb-f15f73676a38
DTSTAMP:20260420T232530Z
DTSTART;VALUE=DATE:20260525
SUMMARY:Whit Monday (France)
END:VEVENT
END:VCALENDAR