BEGIN:VCALENDAR
VERSION:2.0
PRODID:-//time.you/holidays//NONSGML v1.0//EN
BEGIN:VEVENT
UID:3470d273-c2c4-4171-8587-7d7217d2bd51
DTSTAMP:20260420T084828Z
DTSTART;VALUE=DATE:20260610
SUMMARY:Abolition of Slavery (French Guiana)
END:VEVENT
END:VCALENDAR