BEGIN:VCALENDAR
VERSION:2.0
PRODID:-//time.you/holidays//NONSGML v1.0//EN
BEGIN:VEVENT
UID:66d8ee09-9e0a-47b3-bdc9-9d7215527385
DTSTAMP:20260420T013838Z
DTSTART;VALUE=DATE:20261225
SUMMARY:Christmas Day (French Guiana)
END:VEVENT
END:VCALENDAR