BEGIN:VCALENDAR
VERSION:2.0
PRODID:-//time.you/holidays//NONSGML v1.0//EN
BEGIN:VEVENT
UID:8ebd46b5-f975-490e-baeb-229bf0e934f7
DTSTAMP:20260423T200820Z
DTSTART;VALUE=DATE:20260101
SUMMARY:New Year's Day (French Guiana)
END:VEVENT
END:VCALENDAR