BEGIN:VCALENDAR
VERSION:2.0
PRODID:-//time.you/holidays//NONSGML v1.0//EN
BEGIN:VEVENT
UID:49625ecb-9a5a-4293-be9b-1eed9ba3d9fe
DTSTAMP:20260422T085619Z
DTSTART;VALUE=DATE:20261101
SUMMARY:All Saints' Day (French Polynesia)
END:VEVENT
END:VCALENDAR