BEGIN:VCALENDAR
VERSION:2.0
PRODID:-//time.you/holidays//NONSGML v1.0//EN
BEGIN:VEVENT
UID:c4b853a3-0288-4daa-bb76-545def26f1cc
DTSTAMP:20260420T134846Z
DTSTART;VALUE=DATE:20260514
SUMMARY:Ascension Day (French Polynesia)
END:VEVENT
END:VCALENDAR