BEGIN:VCALENDAR
VERSION:2.0
PRODID:-//time.you/holidays//NONSGML v1.0//EN
BEGIN:VEVENT
UID:9f73ed55-eb9e-4ed2-9068-b8c30651051c
DTSTAMP:20260421T010154Z
DTSTART;VALUE=DATE:20260815
SUMMARY:Assumption Day (French Polynesia)
END:VEVENT
END:VCALENDAR