BEGIN:VCALENDAR
VERSION:2.0
PRODID:-//time.you/holidays//NONSGML v1.0//EN
BEGIN:VEVENT
UID:5c3a1af3-5287-41f9-89d3-95a13e75e0d2
DTSTAMP:20260421T091324Z
DTSTART;VALUE=DATE:20260403
SUMMARY:Good Friday (French Polynesia)
END:VEVENT
END:VCALENDAR