BEGIN:VCALENDAR
VERSION:2.0
PRODID:-//time.you/holidays//NONSGML v1.0//EN
BEGIN:VEVENT
UID:819c1a99-c793-432a-8586-11193e07f034
DTSTAMP:20260422T033354Z
DTSTART;VALUE=DATE:20260101
SUMMARY:New Year's Day (French Polynesia)
END:VEVENT
END:VCALENDAR