BEGIN:VCALENDAR
VERSION:2.0
PRODID:-//time.you/holidays//NONSGML v1.0//EN
BEGIN:VEVENT
UID:dbfa4d70-29ff-4680-b125-60767ad16ad8
DTSTAMP:20260420T201201Z
DTSTART;VALUE=DATE:20260525
SUMMARY:Whit Monday (French Polynesia)
END:VEVENT
END:VCALENDAR