BEGIN:VCALENDAR
VERSION:2.0
PRODID:-//time.you/holidays//NONSGML v1.0//EN
BEGIN:VEVENT
UID:2818f106-aa89-4986-956f-529bb5bb6f31
DTSTAMP:20260422T100533Z
DTSTART;VALUE=DATE:20261101
SUMMARY:All Saints' Day (French Southern Territories)
END:VEVENT
END:VCALENDAR