BEGIN:VCALENDAR
VERSION:2.0
PRODID:-//time.you/holidays//NONSGML v1.0//EN
BEGIN:VEVENT
UID:44a729e1-8527-41ea-888e-4dc1624d6a34
DTSTAMP:20260420T021744Z
DTSTART;VALUE=DATE:20261111
SUMMARY:Armistice Day (French Southern Territories)
END:VEVENT
END:VCALENDAR