BEGIN:VCALENDAR
VERSION:2.0
PRODID:-//time.you/holidays//NONSGML v1.0//EN
BEGIN:VEVENT
UID:8b9eefdd-ba95-473d-901f-b4336b55ee52
DTSTAMP:20260420T071832Z
DTSTART;VALUE=DATE:20260514
SUMMARY:Ascension Day (French Southern Territories)
END:VEVENT
END:VCALENDAR