BEGIN:VCALENDAR
VERSION:2.0
PRODID:-//time.you/holidays//NONSGML v1.0//EN
BEGIN:VEVENT
UID:e4822fd2-fd89-4a9b-a1f5-30abf913676f
DTSTAMP:20260421T205711Z
DTSTART;VALUE=DATE:20260714
SUMMARY:National Day (French Southern Territories)
END:VEVENT
END:VCALENDAR