BEGIN:VCALENDAR
VERSION:2.0
PRODID:-//time.you/holidays//NONSGML v1.0//EN
BEGIN:VEVENT
UID:af680f88-dac8-4ef0-ae71-3ac299cc8799
DTSTAMP:20260421T235553Z
DTSTART;VALUE=DATE:20260508
SUMMARY:Victory Day (French Southern Territories)
END:VEVENT
END:VCALENDAR