BEGIN:VCALENDAR
VERSION:2.0
PRODID:-//time.you/holidays//NONSGML v1.0//EN
BEGIN:VEVENT
UID:8de57f7a-93f7-4da6-84e9-b18f4023e20b
DTSTAMP:20260424T122306Z
DTSTART;VALUE=DATE:20280417
SUMMARY:Easter Monday; Women's Rights Day (Gabon)
END:VEVENT
END:VCALENDAR