BEGIN:VCALENDAR
VERSION:2.0
PRODID:-//time.you/holidays//NONSGML v1.0//EN
BEGIN:VEVENT
UID:08c88245-947a-4306-bd98-12dfa3108b28
DTSTAMP:20260420T184204Z
DTSTART;VALUE=DATE:20260406
SUMMARY:Easter Monday (Gabon)
END:VEVENT
END:VCALENDAR