BEGIN:VCALENDAR
VERSION:2.0
PRODID:-//time.you/holidays//NONSGML v1.0//EN
BEGIN:VEVENT
UID:495ceb7b-8a9a-4046-a0d5-ecdb872d96df
DTSTAMP:20260420T115957Z
DTSTART;VALUE=DATE:20260527
SUMMARY:Eid al-Adha (estimated) (Gabon)
END:VEVENT
END:VCALENDAR