BEGIN:VCALENDAR
VERSION:2.0
PRODID:-//time.you/holidays//NONSGML v1.0//EN
BEGIN:VEVENT
UID:a2bc673c-345f-468c-b5cc-0e3257d1926c
DTSTAMP:20260423T223128Z
DTSTART;VALUE=DATE:20230628
SUMMARY:Eid al-Adha (Gabon)
END:VEVENT
END:VCALENDAR