BEGIN:VCALENDAR
VERSION:2.0
PRODID:-//time.you/holidays//NONSGML v1.0//EN
BEGIN:VEVENT
UID:3f9ddf1a-4251-4930-9b95-8c8f8f5e8da0
DTSTAMP:20260421T204134Z
DTSTART;VALUE=DATE:20240410
SUMMARY:Eid al-Fitr (Gabon)
END:VEVENT
END:VCALENDAR