BEGIN:VCALENDAR
VERSION:2.0
PRODID:-//time.you/holidays//NONSGML v1.0//EN
BEGIN:VEVENT
UID:9cecaded-c615-40ec-9fcb-42bd64cd3615
DTSTAMP:20260424T063155Z
DTSTART;VALUE=DATE:20260501
SUMMARY:Labour Day (Gabon)
END:VEVENT
END:VCALENDAR