BEGIN:VCALENDAR
VERSION:2.0
PRODID:-//time.you/holidays//NONSGML v1.0//EN
BEGIN:VEVENT
UID:a633b192-5977-4615-bfd8-02c374591360
DTSTAMP:20260420T231835Z
DTSTART;VALUE=DATE:20260525
SUMMARY:Whit Monday (Gabon)
END:VEVENT
END:VCALENDAR