BEGIN:VCALENDAR
VERSION:2.0
PRODID:-//time.you/holidays//NONSGML v1.0//EN
BEGIN:VEVENT
UID:3458dca1-772c-4127-8ff4-d95b2e93109d
DTSTAMP:20260422T034224Z
DTSTART;VALUE=DATE:20260417
SUMMARY:Women's Rights Day (Gabon)
END:VEVENT
END:VCALENDAR