BEGIN:VCALENDAR
VERSION:2.0
PRODID:-//time.you/holidays//NONSGML v1.0//EN
BEGIN:VEVENT
UID:890a50e9-ca9f-4cc1-8d58-4f1e15b25659
DTSTAMP:20260421T224036Z
DTSTART;VALUE=DATE:20300527
SUMMARY:Africa Liberation Day (observed) (Gambia)
END:VEVENT
END:VCALENDAR