BEGIN:VCALENDAR
VERSION:2.0
PRODID:-//time.you/holidays//NONSGML v1.0//EN
BEGIN:VEVENT
UID:6f17bf57-eb34-400c-89b7-dac9bff1772c
DTSTAMP:20260421T180909Z
DTSTART;VALUE=DATE:20260525
SUMMARY:Africa Liberation Day (Gambia)
END:VEVENT
END:VCALENDAR