BEGIN:VCALENDAR
VERSION:2.0
PRODID:-//time.you/holidays//NONSGML v1.0//EN
BEGIN:VEVENT
UID:9ebf7610-8fc6-4dd7-a50b-d7e9aff8a596
DTSTAMP:20260419T180839Z
DTSTART;VALUE=DATE:20260625
SUMMARY:Ashura (estimated) (Gambia)
END:VEVENT
END:VCALENDAR