BEGIN:VCALENDAR
VERSION:2.0
PRODID:-//time.you/holidays//NONSGML v1.0//EN
BEGIN:VEVENT
UID:4e733e24-2ab0-47fe-8b5d-b251b53c2819
DTSTAMP:20260421T002722Z
DTSTART;VALUE=DATE:20250705
SUMMARY:Ashura (Gambia)
END:VEVENT
END:VCALENDAR