BEGIN:VCALENDAR
VERSION:2.0
PRODID:-//time.you/holidays//NONSGML v1.0//EN
BEGIN:VEVENT
UID:bd4218c9-6f14-4068-a1d9-83ffdd558edd
DTSTAMP:20260421T224053Z
DTSTART;VALUE=DATE:20270816
SUMMARY:Assumption Day (observed); Prophet's Birthday (observed, estimated) (Gambia)
END:VEVENT
END:VCALENDAR