BEGIN:VCALENDAR
VERSION:2.0
PRODID:-//time.you/holidays//NONSGML v1.0//EN
BEGIN:VEVENT
UID:f11aeb56-adca-493c-8d27-e9c88a3a5a25
DTSTAMP:20260420T162700Z
DTSTART;VALUE=DATE:20261226
SUMMARY:Boxing Day (Gambia)
END:VEVENT
END:VCALENDAR