BEGIN:VCALENDAR
VERSION:2.0
PRODID:-//time.you/holidays//NONSGML v1.0//EN
BEGIN:VEVENT
UID:614b2e39-e366-450f-b497-990967a6da1b
DTSTAMP:20260421T172846Z
DTSTART;VALUE=DATE:20261225
SUMMARY:Christmas Day (Gambia)
END:VEVENT
END:VCALENDAR