BEGIN:VCALENDAR
VERSION:2.0
PRODID:-//time.you/holidays//NONSGML v1.0//EN
BEGIN:VEVENT
UID:a5270b16-a3f2-407a-99ec-8b5262f01148
DTSTAMP:20260420T205300Z
DTSTART;VALUE=DATE:20260406
SUMMARY:Easter Monday (Gambia)
END:VEVENT
END:VCALENDAR