BEGIN:VCALENDAR
VERSION:2.0
PRODID:-//time.you/holidays//NONSGML v1.0//EN
BEGIN:VEVENT
UID:9e7caaee-a227-4fdc-bec8-4135bb32da02
DTSTAMP:20260421T130629Z
DTSTART;VALUE=DATE:20260527
SUMMARY:Eid al-Adha (estimated) (Gambia)
END:VEVENT
END:VCALENDAR